Package: scGPS Version: 1.21.0 Command: /home/biocbuild/bbs-3.21-bioc/R/bin/R CMD build --keep-empty-dirs --no-resave-data scGPS StartedAt: 2025-02-09 19:07:43 -0500 (Sun, 09 Feb 2025) EndedAt: 2025-02-09 19:13:37 -0500 (Sun, 09 Feb 2025) EllapsedTime: 353.4 seconds RetCode: 0 Status: OK PackageFile: scGPS_1.21.0.tar.gz PackageFileSize: 2.016 MiB