Package: scGPS Version: 1.21.0 Command: /home/biocbuild/bbs-3.21-bioc/R/bin/R CMD check --install=check:scGPS.install-out.txt --library=/home/biocbuild/bbs-3.21-bioc/R/site-library --timings scGPS_1.21.0.tar.gz StartedAt: 2025-02-10 02:20:08 -0500 (Mon, 10 Feb 2025) EndedAt: 2025-02-10 02:32:45 -0500 (Mon, 10 Feb 2025) EllapsedTime: 756.8 seconds RetCode: 0 Status: OK CheckDir: scGPS.Rcheck Warnings: 0