Package: scHOT Version: 1.19.0 Command: /Library/Frameworks/R.framework/Resources/bin/R CMD check --install=check:scHOT.install-out.txt --library=/Library/Frameworks/R.framework/Resources/library --no-vignettes --timings scHOT_1.19.0.tar.gz StartedAt: 2025-02-09 21:12:35 -0500 (Sun, 09 Feb 2025) EndedAt: 2025-02-09 21:14:08 -0500 (Sun, 09 Feb 2025) EllapsedTime: 93.0 seconds RetCode: 0 Status: OK CheckDir: scHOT.Rcheck Warnings: 0