Package: scHOT Version: 1.19.0 Command: /home/biocbuild/bbs-3.21-bioc/R/bin/R CMD check --install=check:scHOT.install-out.txt --library=/home/biocbuild/bbs-3.21-bioc/R/site-library --timings scHOT_1.19.0.tar.gz StartedAt: 2025-02-13 02:21:11 -0500 (Thu, 13 Feb 2025) EndedAt: 2025-02-13 02:27:22 -0500 (Thu, 13 Feb 2025) EllapsedTime: 371.4 seconds RetCode: 0 Status: OK CheckDir: scHOT.Rcheck Warnings: 0