Package: scMitoMut Version: 1.3.1 Command: rm -rf scMitoMut.buildbin-libdir && mkdir scMitoMut.buildbin-libdir && /Users/biocbuild/BBS/utils/build-universal.sh scMitoMut_1.3.1.tar.gz /Library/Frameworks/R.framework/Resources/bin/R scMitoMut.buildbin-libdir StartedAt: 2025-02-09 22:29:57 -0500 (Sun, 09 Feb 2025) EndedAt: 2025-02-09 22:30:04 -0500 (Sun, 09 Feb 2025) EllapsedTime: 7.2 seconds RetCode: 0 Status: OK PackageFile: scMitoMut_1.3.1.tgz PackageFileSize: 1.304 MiB