Package: scMitoMut Version: 1.3.1 Command: /Library/Frameworks/R.framework/Resources/bin/R CMD build --keep-empty-dirs --no-resave-data scMitoMut StartedAt: 2025-02-04 17:32:36 -0500 (Tue, 04 Feb 2025) EndedAt: 2025-02-04 17:32:51 -0500 (Tue, 04 Feb 2025) EllapsedTime: 15.2 seconds RetCode: 0 Status: OK PackageFile: scMitoMut_1.3.1.tar.gz PackageFileSize: 1.187 MiB