Package: scMitoMut Version: 1.3.1 Command: /home/biocbuild/R/R/bin/R CMD build --keep-empty-dirs --no-resave-data scMitoMut StartedAt: 2025-01-29 02:07:27 -0000 (Wed, 29 Jan 2025) EndedAt: 2025-01-29 02:08:26 -0000 (Wed, 29 Jan 2025) EllapsedTime: 59.1 seconds RetCode: 0 Status: OK PackageFile: scMitoMut_1.3.1.tar.gz PackageFileSize: 1.059 MiB