Package: scMitoMut Version: 1.3.1 Command: /home/biocbuild/R/R/bin/R CMD check --install=check:scMitoMut.install-out.txt --library=/home/biocbuild/R/R/site-library --no-vignettes --timings scMitoMut_1.3.1.tar.gz StartedAt: 2025-01-28 15:02:56 -0000 (Tue, 28 Jan 2025) EndedAt: 2025-01-28 15:05:07 -0000 (Tue, 28 Jan 2025) EllapsedTime: 131.1 seconds RetCode: 0 Status: OK CheckDir: scMitoMut.Rcheck Warnings: 0