Package: scMitoMut Version: 1.3.1 Command: /home/biocbuild/R/R/bin/R CMD INSTALL scMitoMut StartedAt: 2025-01-29 19:37:40 -0000 (Wed, 29 Jan 2025) EndedAt: 2025-01-29 19:38:13 -0000 (Wed, 29 Jan 2025) EllapsedTime: 32.7 seconds RetCode: 0 Status: OK