Package: scMitoMut Version: 1.3.1 Command: rm -rf scMitoMut.buildbin-libdir && mkdir scMitoMut.buildbin-libdir && /Users/biocbuild/BBS/utils/build-universal.sh scMitoMut_1.3.1.tar.gz /Library/Frameworks/R.framework/Resources/bin/R scMitoMut.buildbin-libdir StartedAt: 2025-02-13 00:57:29 -0500 (Thu, 13 Feb 2025) EndedAt: 2025-02-13 00:57:57 -0500 (Thu, 13 Feb 2025) EllapsedTime: 27.5 seconds RetCode: 0 Status: OK PackageFile: scMitoMut_1.3.1.tgz PackageFileSize: 1.305 MiB