Package: scMitoMut Version: 1.3.1 Command: /Library/Frameworks/R.framework/Resources/bin/R CMD INSTALL scMitoMut StartedAt: 2025-02-09 15:10:50 -0500 (Sun, 09 Feb 2025) EndedAt: 2025-02-09 15:11:15 -0500 (Sun, 09 Feb 2025) EllapsedTime: 25.3 seconds RetCode: 0 Status: OK