Package: scMitoMut Version: 1.3.1 Command: /home/biocbuild/bbs-3.21-bioc/R/bin/R CMD check --install=check:scMitoMut.install-out.txt --library=/home/biocbuild/bbs-3.21-bioc/R/site-library --timings scMitoMut_1.3.1.tar.gz StartedAt: 2025-02-10 02:22:49 -0500 (Mon, 10 Feb 2025) EndedAt: 2025-02-10 02:24:07 -0500 (Mon, 10 Feb 2025) EllapsedTime: 78.1 seconds RetCode: 0 Status: OK CheckDir: scMitoMut.Rcheck Warnings: 0