Package: scMitoMut Version: 1.3.1 Command: /home/biocbuild/bbs-3.21-bioc/R/bin/R CMD INSTALL scMitoMut StartedAt: 2025-02-09 15:08:14 -0500 (Sun, 09 Feb 2025) EndedAt: 2025-02-09 15:08:51 -0500 (Sun, 09 Feb 2025) EllapsedTime: 36.5 seconds RetCode: 0 Status: OK