Package: scMitoMut Version: 1.3.1 Command: chmod a+r scMitoMut -R && E:\biocbuild\bbs-3.21-bioc\R\bin\R.exe CMD build --keep-empty-dirs --no-resave-data scMitoMut StartedAt: 2025-02-09 21:28:29 -0500 (Sun, 09 Feb 2025) EndedAt: 2025-02-09 21:29:36 -0500 (Sun, 09 Feb 2025) EllapsedTime: 67.2 seconds RetCode: 0 Status: OK PackageFile: scMitoMut_1.3.1.tar.gz PackageFileSize: 984.4 KiB