Package: scMitoMut Version: 1.3.1 Command: E:\biocbuild\bbs-3.21-bioc\R\bin\R.exe CMD INSTALL scMitoMut StartedAt: 2025-02-09 15:31:29 -0500 (Sun, 09 Feb 2025) EndedAt: 2025-02-09 15:32:09 -0500 (Sun, 09 Feb 2025) EllapsedTime: 40.4 seconds RetCode: 0 Status: OK