Package: scMultiSim Version: 1.3.0 Command: /Library/Frameworks/R.framework/Resources/bin/R CMD check --install=check:scMultiSim.install-out.txt --library=/Library/Frameworks/R.framework/Resources/library --no-vignettes --timings scMultiSim_1.3.0.tar.gz StartedAt: 2025-02-09 21:14:01 -0500 (Sun, 09 Feb 2025) EndedAt: 2025-02-09 21:15:18 -0500 (Sun, 09 Feb 2025) EllapsedTime: 76.9 seconds RetCode: 0 Status: OK CheckDir: scMultiSim.Rcheck Warnings: 0