Package: scMultiSim Version: 1.3.0 Command: /home/biocbuild/R/R/bin/R CMD build --keep-empty-dirs --no-resave-data scMultiSim StartedAt: 2025-01-29 02:07:32 -0000 (Wed, 29 Jan 2025) EndedAt: 2025-01-29 02:20:20 -0000 (Wed, 29 Jan 2025) EllapsedTime: 768.6 seconds RetCode: 0 Status: OK PackageFile: scMultiSim_1.3.0.tar.gz PackageFileSize: 4.314 MiB