Package: scMultiSim Version: 1.3.0 Command: rm -rf scMultiSim.buildbin-libdir && mkdir scMultiSim.buildbin-libdir && /Users/biocbuild/BBS/utils/build-universal.sh scMultiSim_1.3.0.tar.gz /Library/Frameworks/R.framework/Resources/bin/R scMultiSim.buildbin-libdir StartedAt: 2025-02-10 01:15:11 -0500 (Mon, 10 Feb 2025) EndedAt: 2025-02-10 01:15:54 -0500 (Mon, 10 Feb 2025) EllapsedTime: 42.7 seconds RetCode: 0 Status: OK PackageFile: scMultiSim_1.3.0.tgz PackageFileSize: 5.767 MiB