Package: scMultiSim Version: 1.3.0 Command: /Library/Frameworks/R.framework/Resources/bin/R CMD INSTALL scMultiSim StartedAt: 2025-02-12 15:18:17 -0500 (Wed, 12 Feb 2025) EndedAt: 2025-02-12 15:18:57 -0500 (Wed, 12 Feb 2025) EllapsedTime: 39.5 seconds RetCode: 0 Status: OK