Package: scMultiSim Version: 1.3.0 Command: /home/biocbuild/bbs-3.21-bioc/R/bin/R CMD build --keep-empty-dirs --no-resave-data scMultiSim StartedAt: 2025-02-12 19:05:12 -0500 (Wed, 12 Feb 2025) EndedAt: 2025-02-12 19:14:33 -0500 (Wed, 12 Feb 2025) EllapsedTime: 561.6 seconds RetCode: 0 Status: OK PackageFile: scMultiSim_1.3.0.tar.gz PackageFileSize: 5.017 MiB