Package: scMultiSim Version: 1.3.0 Command: /home/biocbuild/bbs-3.21-bioc/R/bin/R CMD INSTALL scMultiSim StartedAt: 2025-02-09 15:23:30 -0500 (Sun, 09 Feb 2025) EndedAt: 2025-02-09 15:23:58 -0500 (Sun, 09 Feb 2025) EllapsedTime: 28.3 seconds RetCode: 0 Status: OK