Package: scMultiSim Version: 1.3.0 Command: chmod a+r scMultiSim -R && E:\biocbuild\bbs-3.21-bioc\R\bin\R.exe CMD build --keep-empty-dirs --no-resave-data scMultiSim StartedAt: 2025-02-09 21:28:54 -0500 (Sun, 09 Feb 2025) EndedAt: 2025-02-09 21:40:43 -0500 (Sun, 09 Feb 2025) EllapsedTime: 708.8 seconds RetCode: 0 Status: OK PackageFile: scMultiSim_1.3.0.tar.gz PackageFileSize: 4.066 MiB