Package: scPCA Version: 1.21.0 Command: /Library/Frameworks/R.framework/Resources/bin/R CMD INSTALL scPCA StartedAt: 2025-02-04 15:24:33 -0500 (Tue, 04 Feb 2025) EndedAt: 2025-02-04 15:24:44 -0500 (Tue, 04 Feb 2025) EllapsedTime: 10.6 seconds RetCode: 0 Status: OK