Package: scPCA Version: 1.21.0 Command: /home/biocbuild/R/R/bin/R CMD build --keep-empty-dirs --no-resave-data scPCA StartedAt: 2025-01-29 02:08:47 -0000 (Wed, 29 Jan 2025) EndedAt: 2025-01-29 02:17:08 -0000 (Wed, 29 Jan 2025) EllapsedTime: 501.3 seconds RetCode: 0 Status: OK PackageFile: scPCA_1.21.0.tar.gz PackageFileSize: 1.042 MiB