Package: scPCA Version: 1.21.0 Command: /home/biocbuild/R/R/bin/R CMD INSTALL scPCA StartedAt: 2025-01-29 20:26:32 -0000 (Wed, 29 Jan 2025) EndedAt: 2025-01-29 20:27:09 -0000 (Wed, 29 Jan 2025) EllapsedTime: 37.2 seconds RetCode: 0 Status: OK