Package: scPCA Version: 1.21.0 Command: rm -rf scPCA.buildbin-libdir && mkdir scPCA.buildbin-libdir && /Users/biocbuild/BBS/utils/build-universal.sh scPCA_1.21.0.tar.gz /Library/Frameworks/R.framework/Resources/bin/R scPCA.buildbin-libdir StartedAt: 2025-02-10 01:15:24 -0500 (Mon, 10 Feb 2025) EndedAt: 2025-02-10 01:15:55 -0500 (Mon, 10 Feb 2025) EllapsedTime: 31.2 seconds RetCode: 0 Status: OK PackageFile: scPCA_1.21.0.tgz PackageFileSize: 2.079 MiB