Package: scPCA Version: 1.21.0 Command: /home/biocbuild/bbs-3.21-bioc/R/bin/R CMD check --install=check:scPCA.install-out.txt --library=/home/biocbuild/bbs-3.21-bioc/R/site-library --timings scPCA_1.21.0.tar.gz StartedAt: 2025-02-10 02:25:01 -0500 (Mon, 10 Feb 2025) EndedAt: 2025-02-10 02:32:32 -0500 (Mon, 10 Feb 2025) EllapsedTime: 450.5 seconds RetCode: 0 Status: OK CheckDir: scPCA.Rcheck Warnings: 0