Package: scPCA Version: 1.21.0 Command: rm -rf scPCA.buildbin-libdir && mkdir scPCA.buildbin-libdir && E:\biocbuild\bbs-3.21-bioc\R\bin\R.exe CMD INSTALL --build --library=scPCA.buildbin-libdir scPCA_1.21.0.tar.gz StartedAt: 2025-02-10 08:40:04 -0500 (Mon, 10 Feb 2025) EndedAt: 2025-02-10 08:40:32 -0500 (Mon, 10 Feb 2025) EllapsedTime: 27.7 seconds RetCode: 0 Status: OK PackageFile: scPCA_1.21.0.zip PackageFileSize: 908.6 KiB