Package: scPCA Version: 1.21.0 Command: chmod a+r scPCA -R && E:\biocbuild\bbs-3.21-bioc\R\bin\R.exe CMD build --keep-empty-dirs --no-resave-data scPCA StartedAt: 2025-02-09 21:30:11 -0500 (Sun, 09 Feb 2025) EndedAt: 2025-02-09 21:37:00 -0500 (Sun, 09 Feb 2025) EllapsedTime: 409.2 seconds RetCode: 0 Status: OK PackageFile: scPCA_1.21.0.tar.gz PackageFileSize: 872.4 KiB