Package: scPCA Version: 1.21.0 Command: E:\biocbuild\bbs-3.21-bioc\R\bin\R.exe CMD INSTALL scPCA StartedAt: 2025-02-09 16:03:37 -0500 (Sun, 09 Feb 2025) EndedAt: 2025-02-09 16:04:11 -0500 (Sun, 09 Feb 2025) EllapsedTime: 34.6 seconds RetCode: 0 Status: OK