Package: scPipe Version: 2.7.1 Command: /Library/Frameworks/R.framework/Resources/bin/R CMD check --install=check:scPipe.install-out.txt --library=/Library/Frameworks/R.framework/Resources/library --no-vignettes --timings scPipe_2.7.1.tar.gz StartedAt: 2025-02-12 21:20:13 -0500 (Wed, 12 Feb 2025) EndedAt: 2025-02-12 21:24:47 -0500 (Wed, 12 Feb 2025) EllapsedTime: 274.3 seconds RetCode: 0 Status: OK CheckDir: scPipe.Rcheck Warnings: 0