Package: scPipe Version: 2.7.1 Command: /home/biocbuild/bbs-3.21-bioc/R/bin/R CMD INSTALL scPipe StartedAt: 2025-02-09 15:36:06 -0500 (Sun, 09 Feb 2025) EndedAt: 2025-02-09 15:38:24 -0500 (Sun, 09 Feb 2025) EllapsedTime: 137.9 seconds RetCode: 0 Status: OK