Package: scPipe Version: 2.7.1 Command: E:\biocbuild\bbs-3.21-bioc\R\bin\R.exe CMD INSTALL scPipe StartedAt: 2025-02-09 16:51:34 -0500 (Sun, 09 Feb 2025) EndedAt: 2025-02-09 16:54:46 -0500 (Sun, 09 Feb 2025) EllapsedTime: 192.1 seconds RetCode: 0 Status: OK