Package: scQTLtools Version: 0.99.11 Command: /Library/Frameworks/R.framework/Resources/bin/R CMD build --keep-empty-dirs --no-resave-data scQTLtools StartedAt: 2025-02-10 18:14:47 -0500 (Mon, 10 Feb 2025) EndedAt: 2025-02-10 18:16:51 -0500 (Mon, 10 Feb 2025) EllapsedTime: 124.7 seconds RetCode: 0 Status: OK PackageFile: scQTLtools_0.99.11.tar.gz PackageFileSize: 2.288 MiB