Package: scQTLtools Version: 0.99.11 Command: /Library/Frameworks/R.framework/Resources/bin/R CMD INSTALL scQTLtools StartedAt: 2025-02-10 15:34:04 -0500 (Mon, 10 Feb 2025) EndedAt: 2025-02-10 15:34:59 -0500 (Mon, 10 Feb 2025) EllapsedTime: 55.0 seconds RetCode: 0 Status: OK