Package: scRecover Version: 1.23.0 Command: rm -rf scRecover.buildbin-libdir && mkdir scRecover.buildbin-libdir && /Users/biocbuild/BBS/utils/build-universal.sh scRecover_1.23.0.tar.gz /Library/Frameworks/R.framework/Resources/bin/R scRecover.buildbin-libdir StartedAt: 2025-02-09 22:30:10 -0500 (Sun, 09 Feb 2025) EndedAt: 2025-02-09 22:30:15 -0500 (Sun, 09 Feb 2025) EllapsedTime: 5.1 seconds RetCode: 0 Status: OK PackageFile: scRecover_1.23.0.tgz PackageFileSize: 1.168 MiB