Package: scRecover Version: 1.23.0 Command: /Library/Frameworks/R.framework/Resources/bin/R CMD INSTALL scRecover StartedAt: 2025-02-12 15:24:26 -0500 (Wed, 12 Feb 2025) EndedAt: 2025-02-12 15:24:30 -0500 (Wed, 12 Feb 2025) EllapsedTime: 4.4 seconds RetCode: 0 Status: OK