Package: scRecover Version: 1.23.0 Command: /home/biocbuild/R/R/bin/R CMD build --keep-empty-dirs --no-resave-data scRecover StartedAt: 2025-01-29 02:09:49 -0000 (Wed, 29 Jan 2025) EndedAt: 2025-01-29 02:12:18 -0000 (Wed, 29 Jan 2025) EllapsedTime: 149.1 seconds RetCode: 0 Status: OK PackageFile: scRecover_1.23.0.tar.gz PackageFileSize: 1.776 MiB