Package: scRecover Version: 1.23.0 Command: /home/biocbuild/bbs-3.21-bioc/R/bin/R CMD build --keep-empty-dirs --no-resave-data scRecover StartedAt: 2025-02-04 19:08:18 -0500 (Tue, 04 Feb 2025) EndedAt: 2025-02-04 19:09:58 -0500 (Tue, 04 Feb 2025) EllapsedTime: 100.1 seconds RetCode: 0 Status: OK PackageFile: scRecover_1.23.0.tar.gz PackageFileSize: 1.713 MiB