Package: scRecover Version: 1.23.0 Command: /home/biocbuild/bbs-3.21-bioc/R/bin/R CMD check --install=check:scRecover.install-out.txt --library=/home/biocbuild/bbs-3.21-bioc/R/site-library --timings scRecover_1.23.0.tar.gz StartedAt: 2025-02-10 02:27:14 -0500 (Mon, 10 Feb 2025) EndedAt: 2025-02-10 02:30:35 -0500 (Mon, 10 Feb 2025) EllapsedTime: 200.2 seconds RetCode: 0 Status: OK CheckDir: scRecover.Rcheck Warnings: 0