Package: scRecover Version: 1.23.0 Command: rm -rf scRecover.buildbin-libdir && mkdir scRecover.buildbin-libdir && E:\biocbuild\bbs-3.21-bioc\R\bin\R.exe CMD INSTALL --build --library=scRecover.buildbin-libdir scRecover_1.23.0.tar.gz StartedAt: 2025-02-10 08:40:26 -0500 (Mon, 10 Feb 2025) EndedAt: 2025-02-10 08:40:48 -0500 (Mon, 10 Feb 2025) EllapsedTime: 22.0 seconds RetCode: 0 Status: OK PackageFile: scRecover_1.23.0.zip PackageFileSize: 1.17 MiB