Package: scRecover Version: 1.23.0 Command: chmod a+r scRecover -R && E:\biocbuild\bbs-3.21-bioc\R\bin\R.exe CMD build --keep-empty-dirs --no-resave-data scRecover StartedAt: 2025-02-09 21:31:09 -0500 (Sun, 09 Feb 2025) EndedAt: 2025-02-09 21:33:30 -0500 (Sun, 09 Feb 2025) EllapsedTime: 140.1 seconds RetCode: 0 Status: OK PackageFile: scRecover_1.23.0.tar.gz PackageFileSize: 1.713 MiB