Package: scRecover Version: 1.23.0 Command: E:\biocbuild\bbs-3.21-bioc\R\bin\R.exe CMD check --no-multiarch --install=check:scRecover.install-out.txt --library=E:\biocbuild\bbs-3.21-bioc\R\library --no-vignettes --timings scRecover_1.23.0.tar.gz StartedAt: 2025-02-10 05:15:01 -0500 (Mon, 10 Feb 2025) EndedAt: 2025-02-10 05:17:10 -0500 (Mon, 10 Feb 2025) EllapsedTime: 129.0 seconds RetCode: 0 Status: OK CheckDir: scRecover.Rcheck Warnings: 0