Package: scRepertoire Version: 2.3.2 Maintainer: Nick Borcherding MaintainerEmail: ncborch at gmail.com git_url: https://git.bioconductor.org/packages/scRepertoire git_branch: devel git_last_commit: 8ff52b7 git_last_commit_date: 2025-01-29 09:12:32 -0500 (Wed, 29 Jan 2025)