Package: scRepertoire Version: 2.3.2 Command: rm -rf scRepertoire.buildbin-libdir && mkdir scRepertoire.buildbin-libdir && /Users/biocbuild/BBS/utils/build-universal.sh scRepertoire_2.3.2.tar.gz /Library/Frameworks/R.framework/Resources/bin/R scRepertoire.buildbin-libdir StartedAt: 2025-02-03 23:05:54 -0500 (Mon, 03 Feb 2025) EndedAt: 2025-02-03 23:06:20 -0500 (Mon, 03 Feb 2025) EllapsedTime: 25.4 seconds RetCode: 0 Status: OK PackageFile: scRepertoire_2.3.2.tgz PackageFileSize: 9.984 MiB