Package: scRepertoire Version: 2.3.2 Command: /Library/Frameworks/R.framework/Resources/bin/R CMD build --keep-empty-dirs --no-resave-data scRepertoire StartedAt: 2025-02-03 18:10:04 -0500 (Mon, 03 Feb 2025) EndedAt: 2025-02-03 18:11:42 -0500 (Mon, 03 Feb 2025) EllapsedTime: 98.1 seconds RetCode: 0 Status: OK PackageFile: scRepertoire_2.3.2.tar.gz PackageFileSize: 23.37 MiB