Package: scRepertoire Version: 2.3.2 Command: /Library/Frameworks/R.framework/Resources/bin/R CMD check --install=check:scRepertoire.install-out.txt --library=/Library/Frameworks/R.framework/Resources/library --no-vignettes --timings scRepertoire_2.3.2.tar.gz StartedAt: 2025-02-03 21:51:50 -0500 (Mon, 03 Feb 2025) EndedAt: 2025-02-03 21:54:57 -0500 (Mon, 03 Feb 2025) EllapsedTime: 187.2 seconds RetCode: 0 Status: OK CheckDir: scRepertoire.Rcheck Warnings: 0