Package: scRepertoire Version: 2.3.2 Command: /Library/Frameworks/R.framework/Resources/bin/R CMD INSTALL scRepertoire StartedAt: 2025-02-03 15:58:27 -0500 (Mon, 03 Feb 2025) EndedAt: 2025-02-03 15:58:49 -0500 (Mon, 03 Feb 2025) EllapsedTime: 22.2 seconds RetCode: 0 Status: OK