Package: scRepertoire Version: 2.3.1 Command: /home/biocbuild/R/R/bin/R CMD check --install=check:scRepertoire.install-out.txt --library=/home/biocbuild/R/R/site-library --no-vignettes --timings scRepertoire_2.3.1.tar.gz StartedAt: 2025-01-28 15:08:05 -0000 (Tue, 28 Jan 2025) EndedAt: 2025-01-28 15:19:47 -0000 (Tue, 28 Jan 2025) EllapsedTime: 701.9 seconds RetCode: 0 Status: OK CheckDir: scRepertoire.Rcheck Warnings: 0