Package: scRepertoire Version: 2.3.2 Command: /home/biocbuild/R/R/bin/R CMD INSTALL scRepertoire StartedAt: 2025-01-29 20:24:10 -0000 (Wed, 29 Jan 2025) EndedAt: 2025-01-29 20:25:42 -0000 (Wed, 29 Jan 2025) EllapsedTime: 92.0 seconds RetCode: 0 Status: OK